BEGIN:VCALENDAR
VERSION:2.0
PRODID:-//Sinclairs Restaurant - ECPv6.15.20//NONSGML v1.0//EN
CALSCALE:GREGORIAN
METHOD:PUBLISH
X-WR-CALNAME:Sinclairs Restaurant
X-ORIGINAL-URL:https://sinclairsrestaurants.com
X-WR-CALDESC:Events for Sinclairs Restaurant
REFRESH-INTERVAL;VALUE=DURATION:PT1H
X-Robots-Tag:noindex
X-PUBLISHED-TTL:PT1H
BEGIN:VTIMEZONE
TZID:America/Chicago
BEGIN:DAYLIGHT
TZOFFSETFROM:-0600
TZOFFSETTO:-0500
TZNAME:CDT
DTSTART:20250309T080000
END:DAYLIGHT
BEGIN:STANDARD
TZOFFSETFROM:-0500
TZOFFSETTO:-0600
TZNAME:CST
DTSTART:20251102T070000
END:STANDARD
BEGIN:DAYLIGHT
TZOFFSETFROM:-0600
TZOFFSETTO:-0500
TZNAME:CDT
DTSTART:20260308T080000
END:DAYLIGHT
BEGIN:STANDARD
TZOFFSETFROM:-0500
TZOFFSETTO:-0600
TZNAME:CST
DTSTART:20261101T070000
END:STANDARD
BEGIN:DAYLIGHT
TZOFFSETFROM:-0600
TZOFFSETTO:-0500
TZNAME:CDT
DTSTART:20270314T080000
END:DAYLIGHT
BEGIN:STANDARD
TZOFFSETFROM:-0500
TZOFFSETTO:-0600
TZNAME:CST
DTSTART:20271107T070000
END:STANDARD
END:VTIMEZONE
BEGIN:VEVENT
DTSTART;TZID=America/Chicago:20260422T070000
DTEND;TZID=America/Chicago:20260422T220000
DTSTAMP:20260419T200821
CREATED:20260419T225045Z
LAST-MODIFIED:20260419T225127Z
UID:3844-1776841200-1776895200@sinclairsrestaurants.com
SUMMARY:MJ Ray & Kasey
DESCRIPTION:
URL:https://sinclairsrestaurants.com/index.php/event/mj-ray-kasey/
LOCATION:Sinclairs East\, 7847 Vaughn Road\, Montgomery\, AL\, 36117\, United States
CATEGORIES:Bands
END:VEVENT
BEGIN:VEVENT
DTSTART;TZID=America/Chicago:20260423T190000
DTEND;TZID=America/Chicago:20260423T220000
DTSTAMP:20260419T200821
CREATED:20260419T225207Z
LAST-MODIFIED:20260419T225515Z
UID:3846-1776970800-1776981600@sinclairsrestaurants.com
SUMMARY:Zack & Chris
DESCRIPTION:
URL:https://sinclairsrestaurants.com/index.php/event/zack-chris/
LOCATION:Sinclairs East\, 7847 Vaughn Road\, Montgomery\, AL\, 36117\, United States
CATEGORIES:Bands
END:VEVENT
BEGIN:VEVENT
DTSTART;TZID=America/Chicago:20260424T190000
DTEND;TZID=America/Chicago:20260424T220000
DTSTAMP:20260419T200821
CREATED:20260419T225245Z
LAST-MODIFIED:20260419T225447Z
UID:3848-1777057200-1777068000@sinclairsrestaurants.com
SUMMARY:Alex Walker Band
DESCRIPTION:
URL:https://sinclairsrestaurants.com/index.php/event/alex-walker-band/
LOCATION:Sinclairs East\, 7847 Vaughn Road\, Montgomery\, AL\, 36117\, United States
CATEGORIES:Bands
END:VEVENT
BEGIN:VEVENT
DTSTART;TZID=America/Chicago:20260425T190000
DTEND;TZID=America/Chicago:20260425T220000
DTSTAMP:20260419T200821
CREATED:20260419T225321Z
LAST-MODIFIED:20260419T225433Z
UID:3850-1777143600-1777154400@sinclairsrestaurants.com
SUMMARY:Zack Attack
DESCRIPTION:
URL:https://sinclairsrestaurants.com/index.php/event/zack-attack/
LOCATION:Sinclairs East\, 7847 Vaughn Road\, Montgomery\, AL\, 36117\, United States
CATEGORIES:Bands
END:VEVENT
BEGIN:VEVENT
DTSTART;TZID=America/Chicago:20260429T190000
DTEND;TZID=America/Chicago:20260429T220000
DTSTAMP:20260419T200821
CREATED:20260419T225413Z
LAST-MODIFIED:20260419T225413Z
UID:3852-1777489200-1777500000@sinclairsrestaurants.com
SUMMARY:Ash & Honey (Todd & Sonjha)
DESCRIPTION:
URL:https://sinclairsrestaurants.com/index.php/event/ash-honey-todd-sonjha/
LOCATION:Sinclairs East\, 7847 Vaughn Road\, Montgomery\, AL\, 36117\, United States
CATEGORIES:Bands
END:VEVENT
END:VCALENDAR